BEGIN:VCALENDAR
VERSION:2.0
PRODID:-//ChamberMaster//Event Calendar 2.0//EN
METHOD:PUBLISH
X-PUBLISHED-TTL:P3D
REFRESH-INTERVAL:P3D
CALSCALE:GREGORIAN
BEGIN:VEVENT
DTSTART:20230223T190000Z
DTEND:20230223T200000Z
X-MICROSOFT-CDO-ALLDAYEVENT:FALSE
SUMMARY:Budgeting For What Matters Most
DESCRIPTION:Register Today!\n\n\n\nBudgeting For What Matters Most\n\nHave you ever wanted to budget your finances in a better way but didn't have the skills or tools? Are you wanting to set budget goals that can benefit you or your business?\n\n\n\nRegister today for this no-cost "Budgeting For What Matters Most" seminar presented by Thrivent! Sergio will help bring budgeting skills and tools into perspective for individuals and business owners!\n\n\n\nWe have an added BONUS!!\n\n\n\nMary with Rural Economic Development (REDS) will be in-house to present how REDS provides economic and business development services to Southern Idaho's rural communities to build more robust rural economies.\n\n\n\nLocation:\n\nGooding Public Library\n\n306 5th Avenue W.\n\nGooding\, Idaho 83330\n\nSpeaker(s):\n\nThrivent\n\nSergio Mendoza - Financial Advisor\n\nWest Advisor Group CA\n\nLicense #: 4174322\n\nSergio Mendoza | Thrivent in Twin Falls\, ID\n\nIdaho Small Business Development Center (ISBDC)\n\nBryan Matsuoka - Regional Director\n\nhttps://idahosbdc.csi.edu/\n\n\n\nRural Economic Development (REDS)\n\nMary Hollenbeck - Economic Development Professional\n\nSmall Business Loans & Resources - Idaho | Region IV Development (rivda.org)\n\nSpecial Instructions:\n\n*Lunch will be provided.\n\n*Seating is limited.
X-ALT-DESC;FMTTYPE=text/html:<h3><strong><span style="font-size:16px"><a href="https://business.idahosbdc.org/workshop.aspx?ekey=50430028"><span style="color:rgb(255\, 255\, 255)"><span style="font-size:14px"><span style="background-color:rgb(0\, 0\, 255)">Register Today!</span></span></span></a></span><br />\n<br />\nBudgeting For What Matters Most</strong></h3>\n\n<p>Have you ever wanted to budget your finances in a better way but didn&#39\;t have the skills or tools? Are you wanting to set budget goals that can benefit you or your business?<br />\n<br />\nRegister today for this no-cost &quot\;Budgeting For What Matters Most&quot\; seminar presented by Thrivent! Sergio will help bring budgeting skills and tools into perspective for individuals and business owners!<br />\n<br />\n<em><strong>We have an added BONUS!!</strong></em><br />\n<br />\nMary with Rural Economic Development (REDS) will be in-house to present how REDS provides economic and business development services to Southern Idaho&#39\;s rural communities to build more robust rural economies.<br />\n<br />\n<strong>Location:</strong><br />\nGooding Public Library<br />\n306 5th Avenue W.<br />\nGooding\, Idaho 83330</p>\n\n<p><strong>Speaker(s):</strong><br />\nThrivent<br />\nSergio Mendoza - Financial Advisor<br />\nWest Advisor Group CA<br />\nLicense #: 4174322<br />\n<a href="https://connect.thrivent.com/sergio-mendoza?utm_source=ExtNet&amp\;utm_medium=Yext&amp\;y_source=1_MjgxMjY3MTYtNDgzLWxvY2F0aW9uLndlYnNpdGU%3D" style="outline: 0px\; margin: 0px\; padding: 0px\; border: 0px\; vertical-align: baseline\; background: transparent\; text-decoration-line: none\; color: rgb(43\, 104\, 147)\;">Sergio Mendoza | Thrivent in Twin Falls\, ID</a></p>\n\n<p>Idaho Small Business Development Center (ISBDC)<br />\nBryan Matsuoka - Regional Director<br />\n<a href="https://idahosbdc.csi.edu/">https://idahosbdc.csi.edu/</a><br />\n<br />\nRural Economic Development (REDS)<br />\nMary Hollenbeck - Economic Development Professional<br />\n<a href="https://rivda.org/" style="outline: 0px\; margin: 0px\; padding: 0px\; border: 0px\; vertical-align: baseline\; background: transparent\; text-decoration-line: none\; color: rgb(43\, 104\, 147)\;">Small Business Loans &amp\; Resources - Idaho | Region IV Development (rivda.org)</a></p>\n\n<p><strong>Special Instructions:</strong><br />\n*Lunch will be provided.<br />\n*Seating is limited.</p>\n
LOCATION:Location: Gooding Public Library 306 5th Avenue W. Gooding\, Idaho 83330
UID:e.3057.3097
SEQUENCE:3
DTSTAMP:20260420T013203Z
URL:http://jeromeid.chambermaster.com/events/details/budgeting-for-what-matters-most-3097
END:VEVENT

END:VCALENDAR
