BEGIN:VCALENDAR
VERSION:2.0
PRODID:-//ChamberMaster//Event Calendar 2.0//EN
METHOD:PUBLISH
X-PUBLISHED-TTL:P3D
REFRESH-INTERVAL:P3D
CALSCALE:GREGORIAN
BEGIN:VEVENT
DTSTART:20220829T110000Z
DTEND:20220829T180000Z
X-MICROSOFT-CDO-ALLDAYEVENT:FALSE
SUMMARY:Faulkner Planetarium to host Artemis 1 Launch Event
DESCRIPTION:The Faulkner Planetarium at the College of Southern Idaho's Herrett Center is hosting an Artemis 1 launch event on the morning of Monday\, August 29. NASA's uncrewed Artemis 1 mission\, the first step in returning American astronauts to the surface of the Moon\, will launch the Orion spacecraft to orbit the Moon and return safely to Earth after 26 to 42 days in space. Onboard will be "Moonikin Campos\," a high-tech mannequin carrying sensors to assess conditions astronauts will experience on future missions.\n\nThe Faulkner Planetarium will be one of many planetariums around the world livestreaming fulldome coverage of the launch from Cape Canaveral. Cosm\, a global leader in experiential media and immersive technology\, will distribute Space Explorers: Artemis Ascending\, a first-of-its-kind immersive live feed by Emmy Award-winning Felix & Paul Studios\, capturing and livestreaming the launch in 8K\, 360-degree direct-to-dome to theaters around the world.\n\nThis will be a unique coverage of the launch and seating is very limited. The Faulkner Planetarium will be making 132 tickets available for purchase starting Tuesday\, August 23 when the Herrett Center opens for business at 9:30 AM. Ticket prices are $6 adults\, $5 seniors (60+)\, $4 children (2 - 17). Tickets will be sold on a first come\, first served basis.\n\nThe Artemis 1 launch is an early morning event with a scheduled lift-off time of 6:33 AM MDT. The Herrett Center doors will open for ticket holders at 5:00 AM with the livestream starting at 5:33 AM. We ask that ticket buyers be aware of the early start\, that individuals only purchase tickets if they know they can make the launch event\, and that ticket holders be in their seats by 5:30 AM\, as this is not a drop-in type of event.\n\nIn the event of a last minute launch cancellation\, Felix & Paul Studios will provide alternate\, but related\, coverage and there will be no refunding of tickets. As with all rocket launches\, delays or cancellations are always a possibility. In the event of a cancellation by NASA ahead of the launch date\, tickets will be refunded or transferred to the next launch window livestream event.\n\nTickets can be purchased at the Herrett Center\, in-person\, or by calling the center at (208) 732-6655. The Herrett Center and Faulkner Planetarium are located on the northeast corner of the College of Southern Idaho's main campus at 315 Falls Avenue\, Twin Falls\, ID.\n\n \n\nFor questions regarding this press release:\n\nContact: Rick Greenawald\n\nOrganization: Herrett Center for Arts and Science\, College of Southern Idaho\n\nPhone Numbers: (208) 732-6655 (Museum)\, (208) 732-6659 (Greenawald)\n\nEmail: rgreenawald@csi.edu
X-ALT-DESC;FMTTYPE=text/html:<p class="x_MsoNormal" style="margin: 0in\; font-size: 11pt\; font-family: Calibri\, sans-serif\; color: rgb(32\, 31\, 30)\;"><span style="border: 0px\; font-style: inherit\; font-variant: inherit\; font-weight: inherit\; font-stretch: inherit\; font-size: 12pt\; line-height: inherit\; font-family: inherit\; margin: 0px\; padding: 0px\; vertical-align: baseline\; color: inherit\;">The Faulkner Planetarium at the College of Southern Idaho&rsquo\;s Herrett Center is hosting an Artemis 1 launch event on the morning of Monday\, August 29. NASA&rsquo\;s uncrewed Artemis 1 mission\, the first step in returning American astronauts to the surface of the Moon\, will launch the Orion spacecraft to orbit the Moon and return safely to Earth after 26 to 42 days in space. Onboard will be &ldquo\;Moonikin Campos\,&rdquo\; a high-tech mannequin carrying sensors to assess conditions astronauts will experience on future missions.</span></p>\n\n<p class="x_MsoNormal" style="margin: 0in\; font-size: 11pt\; font-family: Calibri\, sans-serif\; color: rgb(32\, 31\, 30)\;"><span style="border: 0px\; font-style: inherit\; font-variant: inherit\; font-weight: inherit\; font-stretch: inherit\; font-size: 12pt\; line-height: inherit\; font-family: inherit\; margin: 0px\; padding: 0px\; vertical-align: baseline\; color: inherit\;">The Faulkner Planetarium will be one of many planetariums around the world livestreaming fulldome coverage of the launch from Cape Canaveral. Cosm\, a global leader in experiential media and immersive technology\, will distribute&nbsp\;<i>Space Explorers: Artemis Ascending</i>\, a first-of-its-kind immersive live feed by Emmy Award-winning Felix &amp\; Paul Studios\, capturing and livestreaming the launch in 8K\, 360-degree direct-to-dome to theaters around the world.</span></p>\n\n<p class="x_MsoNormal" style="margin: 0in\; font-size: 11pt\; font-family: Calibri\, sans-serif\; color: rgb(32\, 31\, 30)\;"><span style="border: 0px\; font-style: inherit\; font-variant: inherit\; font-weight: inherit\; font-stretch: inherit\; font-size: 12pt\; line-height: inherit\; font-family: inherit\; margin: 0px\; padding: 0px\; vertical-align: baseline\; color: inherit\;">This will be a unique coverage of the launch and seating is very limited. The Faulkner Planetarium will be making 132 tickets available for purchase starting Tuesday\, August 23 when the Herrett Center opens for business at 9:30 AM. Ticket prices are $6 adults\, $5 seniors (60+)\, $4 children (2 - 17). Tickets will be sold on a first come\, first served basis.</span></p>\n\n<p class="x_MsoNormal" style="margin: 0in\; font-size: 11pt\; font-family: Calibri\, sans-serif\; color: rgb(32\, 31\, 30)\;"><span style="border: 0px\; font-style: inherit\; font-variant: inherit\; font-weight: inherit\; font-stretch: inherit\; font-size: 12pt\; line-height: inherit\; font-family: inherit\; margin: 0px\; padding: 0px\; vertical-align: baseline\; color: inherit\;">The Artemis 1 launch is an early morning event with a scheduled lift-off time of 6:33 AM MDT. The Herrett Center doors will open for ticket holders at 5:00 AM with the livestream starting at 5:33 AM. We ask that ticket buyers be aware of the early start\, that individuals only purchase tickets if they know they can make the launch event\, and that ticket holders be in their seats by 5:30 AM\, as this is not a drop-in type of event.</span></p>\n\n<p class="x_MsoNormal" style="margin: 0in\; font-size: 11pt\; font-family: Calibri\, sans-serif\; color: rgb(32\, 31\, 30)\;"><span style="border: 0px\; font-style: inherit\; font-variant: inherit\; font-weight: inherit\; font-stretch: inherit\; font-size: 12pt\; line-height: inherit\; font-family: inherit\; margin: 0px\; padding: 0px\; vertical-align: baseline\; color: inherit\;">In the event of a last minute launch cancellation\, Felix &amp\; Paul Studios will provide alternate\, but related\, coverage and there will be no refunding of tickets. As with all rocket launches\, delays or cancellations are always a possibility. In the event of a cancellation by NASA ahead of the launch date\, tickets will be refunded or transferred to the next launch window livestream event.</span></p>\n\n<p class="x_MsoNormal" style="margin: 0in\; font-size: 11pt\; font-family: Calibri\, sans-serif\; color: rgb(32\, 31\, 30)\;"><span style="border: 0px\; font-style: inherit\; font-variant: inherit\; font-weight: inherit\; font-stretch: inherit\; font-size: 12pt\; line-height: inherit\; font-family: inherit\; margin: 0px\; padding: 0px\; vertical-align: baseline\; color: inherit\;">Tickets can be purchased at the Herrett Center\, in-person\, or by calling the center at (208) 732-6655. The Herrett Center and Faulkner Planetarium are located on the northeast corner of the College of Southern Idaho&rsquo\;s main campus at 315 Falls Avenue\, Twin Falls\, ID.</span></p>\n\n<p aria-hidden="true" class="x_MsoNormal" style="margin: 0in\; font-size: 11pt\; font-family: Calibri\, sans-serif\; color: rgb(32\, 31\, 30)\;">&nbsp\;</p>\n\n<p class="x_MsoNormal" style="margin: 0in\; font-size: 11pt\; font-family: Calibri\, sans-serif\; color: rgb(32\, 31\, 30)\;">For questions regarding this press release:</p>\n\n<p class="x_MsoNormal" style="margin: 0in\; font-size: 11pt\; font-family: Calibri\, sans-serif\; color: rgb(32\, 31\, 30)\;"><b><span style="border: 0px\; font-style: inherit\; font-variant: inherit\; font-weight: inherit\; font-stretch: inherit\; font-size: 12pt\; line-height: inherit\; font-family: inherit\; margin: 0px\; padding: 0px\; vertical-align: baseline\; color: inherit\;">Contact: Rick Greenawald</span></b></p>\n\n<p class="x_MsoNormal" style="margin: 0in\; font-size: 11pt\; font-family: Calibri\, sans-serif\; color: rgb(32\, 31\, 30)\;"><b><span style="border: 0px\; font-style: inherit\; font-variant: inherit\; font-weight: inherit\; font-stretch: inherit\; font-size: 12pt\; line-height: inherit\; font-family: inherit\; margin: 0px\; padding: 0px\; vertical-align: baseline\; color: inherit\;">Organization: Herrett Center for Arts and Science\, College of Southern Idaho</span></b></p>\n\n<p class="x_MsoNormal" style="margin: 0in\; font-size: 11pt\; font-family: Calibri\, sans-serif\; color: rgb(32\, 31\, 30)\;"><b><span style="border: 0px\; font-style: inherit\; font-variant: inherit\; font-weight: inherit\; font-stretch: inherit\; font-size: 12pt\; line-height: inherit\; font-family: inherit\; margin: 0px\; padding: 0px\; vertical-align: baseline\; color: inherit\;">Phone Numbers: (208) 732-6655 (Museum)\, (208) 732-6659 (Greenawald)</span></b></p>\n\n<p class="x_MsoNormal" style="margin: 0in\; font-size: 11pt\; font-family: Calibri\, sans-serif\; color: rgb(32\, 31\, 30)\;"><b><span style="border: 0px\; font-style: inherit\; font-variant: inherit\; font-weight: inherit\; font-stretch: inherit\; font-size: 12pt\; line-height: inherit\; font-family: inherit\; margin: 0px\; padding: 0px\; vertical-align: baseline\; color: inherit\;">Email:&nbsp\;<a data-auth="NotApplicable" data-linkindex="0" href="mailto:rgreenawald@csi.edu" rel="noopener noreferrer" style="border: 0px\; font: inherit\; margin: 0px\; padding: 0px\; vertical-align: baseline\; color: rgb(5\, 99\, 193)\;" target="_blank">rgreenawald@csi.edu</a></span></b></p>\n\n<div>&nbsp\;</div>\n
LOCATION:
UID:e.3057.3015
SEQUENCE:3
DTSTAMP:20260423T024741Z
URL:http://jeromeid.chambermaster.com/events/details/faulkner-planetarium-to-host-artemis-1-launch-event-3015
END:VEVENT

END:VCALENDAR
