BEGIN:VCALENDAR
VERSION:2.0
PRODID:-//ChamberMaster//Event Calendar 2.0//EN
METHOD:PUBLISH
X-PUBLISHED-TTL:P3D
REFRESH-INTERVAL:P3D
CALSCALE:GREGORIAN
BEGIN:VEVENT
DTSTART:20230201T190000Z
DTEND:20230331T180000Z
X-MICROSOFT-CDO-ALLDAYEVENT:FALSE
SUMMARY:Heritage Academy Open Enrollment
DESCRIPTION:Heritage Academy is now accepting applications for the 2023-2024 school year. Visit our Website at heritageacademyid.org for more information. Call or stop by also!
X-ALT-DESC;FMTTYPE=text/html:Heritage Academy is now accepting applications for the 2023-2024 school year. Visit our Website at heritageacademyid.org for more information. Call or stop by also!
LOCATION:500 South Lincoln Avenue Jerome\, Idaho 83338
UID:e.3057.3104
SEQUENCE:3
DTSTAMP:20260419T234029Z
URL:http://jeromeid.chambermaster.com/events/details/heritage-academy-open-enrollment-3104
END:VEVENT

END:VCALENDAR
