BEGIN:VCALENDAR
VERSION:2.0
PRODID:-//ChamberMaster//Event Calendar 2.0//EN
METHOD:PUBLISH
X-PUBLISHED-TTL:P3D
REFRESH-INTERVAL:P3D
CALSCALE:GREGORIAN
BEGIN:VEVENT
DTSTART:20220702T210000Z
DTEND:20220703T010000Z
X-MICROSOFT-CDO-ALLDAYEVENT:FALSE
SUMMARY:Jerome Freedom Fest
DESCRIPTION:3rd Annual Freedom Fest
X-ALT-DESC;FMTTYPE=text/html:3rd Annual Freedom Fest<br />\n&nbsp\;
LOCATION:ICCU & Veterans Park Main Street Jerome
UID:e.3057.2951
SEQUENCE:3
DTSTAMP:20260423T203828Z
URL:http://jeromeid.chambermaster.com/events/details/jerome-freedom-fest-2951
END:VEVENT

END:VCALENDAR
