BEGIN:VCALENDAR
VERSION:2.0
PRODID:-//ChamberMaster//Event Calendar 2.0//EN
METHOD:PUBLISH
X-PUBLISHED-TTL:P3D
REFRESH-INTERVAL:P3D
CALSCALE:GREGORIAN
BEGIN:VEVENT
DTSTART:20220401T173000Z
DTEND:20220401T190000Z
X-MICROSOFT-CDO-ALLDAYEVENT:FALSE
SUMMARY:Lenten Lunches
DESCRIPTION:St. Jerome Catholic Church is having Lenten Lunches every Friday thru April 8th. Soup\, sandwich\, drink\, and dessert for $6.00. 11:30 to 1 pm. Everyone is welcome
X-ALT-DESC;FMTTYPE=text/html:<span style="color: rgb(32\, 31\, 30)\; font-family: sans-serif\; font-size: 13.3333px\;">St. Jerome Catholic Church is having Lenten Lunches every Friday thru April 8th. Soup\, sandwich\, drink\, and dessert for $6.00. 11:30 to 1 pm. Everyone is welcome</span>
LOCATION:St. Jerome Catholic Church 216 2nd Ave E
UID:e.3057.2929
SEQUENCE:3
DTSTAMP:20260425T202638Z
URL:http://jeromeid.chambermaster.com/events/details/lenten-lunches-04-01-2022-2929
END:VEVENT

END:VCALENDAR
