BEGIN:VCALENDAR
VERSION:2.0
PRODID:-//ChamberMaster//Event Calendar 2.0//EN
METHOD:PUBLISH
X-PUBLISHED-TTL:P3D
REFRESH-INTERVAL:P3D
CALSCALE:GREGORIAN
BEGIN:VEVENT
DTSTART:20220429T170000Z
DTEND:20220429T193000Z
X-MICROSOFT-CDO-ALLDAYEVENT:FALSE
SUMMARY:Springfling Luncheon
DESCRIPTION:American Legion Auxiliary Unit 46\n\nPresents our annual\n\nSPRINGFLING LUNCHEON\n\n\n\nLunch served: Salad\, Rolls & Desserts
X-ALT-DESC;FMTTYPE=text/html:American Legion Auxiliary Unit 46<br />\nPresents our annual<br />\nSPRINGFLING LUNCHEON<br />\n<br />\nLunch served: Salad\, Rolls &amp\; Desserts<br />\n&nbsp\;
LOCATION:105 7th Ave East Jerome ID 208-539-0239 or 208-944-4300
UID:e.3057.2952
SEQUENCE:3
DTSTAMP:20260425T181733Z
URL:http://jeromeid.chambermaster.com/events/details/springfling-luncheon-2952
END:VEVENT

END:VCALENDAR
