BEGIN:VCALENDAR
VERSION:2.0
PRODID:-//ChamberMaster//Event Calendar 2.0//EN
METHOD:PUBLISH
X-PUBLISHED-TTL:P3D
REFRESH-INTERVAL:P3D
CALSCALE:GREGORIAN
BEGIN:VEVENT
DTSTART;VALUE=DATE:20220506
DTEND;VALUE=DATE:20220507
TRANSP:TRANSPARENT
X-MICROSOFT-CDO-ALLDAYEVENT:TRUE
SUMMARY:Support Local Gems
DESCRIPTION:Support Idaho Small Businesses\n\n\n\nIdaho's small businesses have shown immese resilience in the face of labor shortages\, supply chain disruptions\, and rising costs. Local shops\, restaurants\, job creators\, and retailers have led the way through these challenges\, preserving Idaho's unique values along the way. Idaho's small businesses epitomize what makes the Gem State special. \n\n\n\nShow your love for our small businesses. Dine at an independent restaurant\, purchase a gift from a local retailer\, and more.
X-ALT-DESC;FMTTYPE=text/html:Support Idaho Small Businesses<br />\n<br />\nIdaho&#39\;s small businesses have shown immese resilience in the face of labor shortages\, supply chain disruptions\, and rising costs. Local shops\, restaurants\, job creators\, and retailers have led the way through these challenges\, preserving Idaho&#39\;s unique values along the way. Idaho&#39\;s small businesses epitomize what makes the Gem State special.&nbsp\;<br />\n<br />\nShow your love for our small businesses. Dine at an independent restaurant\, purchase a gift from a local retailer\, and more.&nbsp\;<br />\n&nbsp\;
LOCATION:
UID:e.3057.2957
SEQUENCE:3
DTSTAMP:20260424T111458Z
URL:http://jeromeid.chambermaster.com/events/details/support-local-gems-2957
END:VEVENT

END:VCALENDAR
